BEGIN:VCALENDAR
VERSION:2.0
PRODID:-//Spectrum Environmental Solutions - ECPv6.15.13.1//NONSGML v1.0//EN
CALSCALE:GREGORIAN
METHOD:PUBLISH
X-ORIGINAL-URL:https://www.spectrumenvsoln.com
X-WR-CALDESC:Events for Spectrum Environmental Solutions
REFRESH-INTERVAL;VALUE=DURATION:PT1H
X-Robots-Tag:noindex
X-PUBLISHED-TTL:PT1H
BEGIN:VTIMEZONE
TZID:America/Chicago
BEGIN:DAYLIGHT
TZOFFSETFROM:-0600
TZOFFSETTO:-0500
TZNAME:CDT
DTSTART:20240310T080000
END:DAYLIGHT
BEGIN:STANDARD
TZOFFSETFROM:-0500
TZOFFSETTO:-0600
TZNAME:CST
DTSTART:20241103T070000
END:STANDARD
BEGIN:DAYLIGHT
TZOFFSETFROM:-0600
TZOFFSETTO:-0500
TZNAME:CDT
DTSTART:20250309T080000
END:DAYLIGHT
BEGIN:STANDARD
TZOFFSETFROM:-0500
TZOFFSETTO:-0600
TZNAME:CST
DTSTART:20251102T070000
END:STANDARD
BEGIN:DAYLIGHT
TZOFFSETFROM:-0600
TZOFFSETTO:-0500
TZNAME:CDT
DTSTART:20260308T080000
END:DAYLIGHT
BEGIN:STANDARD
TZOFFSETFROM:-0500
TZOFFSETTO:-0600
TZNAME:CST
DTSTART:20261101T070000
END:STANDARD
END:VTIMEZONE
BEGIN:VEVENT
DTSTART;TZID=America/Chicago:20250218T080000
DTEND;TZID=America/Chicago:20250219T170000
DTSTAMP:20260425T080001
CREATED:20241204T204306Z
LAST-MODIFIED:20241204T204329Z
UID:10000019-1739865600-1739984400@www.spectrumenvsoln.com
SUMMARY:BLEWS Symposium 2025
DESCRIPTION:The Spectrum team is excited to attend the BLEWS Symposium this Feburary!
URL:https://www.spectrumenvsoln.com/event/blews-symposium-2025/
LOCATION:The Thompson Dallas\, 205 N Akard St\, Dallas\, Texas\, 75201
CATEGORIES:Conference
ATTACH;FMTTYPE=image/jpeg:https://www.spectrumenvsoln.com/wp-content/uploads/2024/12/BLEWS-Symposium.jpg
END:VEVENT
BEGIN:VEVENT
DTSTART;TZID=America/Chicago:20250226T080000
DTEND;TZID=America/Chicago:20250227T170000
DTSTAMP:20260425T080001
CREATED:20250114T201718Z
LAST-MODIFIED:20250114T201718Z
UID:10000020-1740556800-1740675600@www.spectrumenvsoln.com
SUMMARY:A&WMA's International Conference on Thermal Treatement Technologies & Hazardous Waste Combustors (IT3)
DESCRIPTION:See us at the A&WMA’s International Conference on Thermal Treatment Technologies & Hazardous Waste Combustors (IT3) in Tulsa\, Oklahoma\, on February 26-27th\, 2025. On February 26th at 4:00 pm\, our Director of Spectrum’s Arizona Physical Chemistry Lab\, Dr. Curtis Laush\, will be presenting on “Advances in pptv Measurements of PFAS Volatiles in Thermal Exhausts via FTIR Spectroscopy”.\n\nCelebrating it’s 41st year\, this conference provides a forum for the discussion of state-of-the-art technical information\, regulations\, and public policy on thermal treatment technologies and their relationship to air emissions\, greenhouse gases\, sustainability\, and climate change.
URL:https://www.spectrumenvsoln.com/event/2025-awmas-international-conference-on-thermal-treatement-technologies-hazardous-waste-combustors-it3/
CATEGORIES:Conference
ATTACH;FMTTYPE=image/jpeg:https://www.spectrumenvsoln.com/wp-content/uploads/2025/01/SEMICON-WEST-1.jpg
END:VEVENT
BEGIN:VEVENT
DTSTART;TZID=America/Chicago:20250227T080000
DTEND;TZID=America/Chicago:20250227T170000
DTSTAMP:20260425T080001
CREATED:20250114T202633Z
LAST-MODIFIED:20250114T202837Z
UID:10000021-1740643200-1740675600@www.spectrumenvsoln.com
SUMMARY:Southwest Lousiana & Gulf Coast Texas A&WMA Spring Conference
DESCRIPTION:We are excited to be attending and presenting at the 2025 Spring Conference in Lake Charles\, Lousiana on February 27th\, 2025.
URL:https://www.spectrumenvsoln.com/event/2025-lousiana-section-awma-spring-conference/
LOCATION:L’Auberge Casino & Hotel\, 777 L’Auberge Ave\, Baton Rouge\, TX\, 70820\, United States
CATEGORIES:Conference
ATTACH;FMTTYPE=image/jpeg:https://www.spectrumenvsoln.com/wp-content/uploads/2025/01/LA-AWMA-Spring-Conference.jpg
END:VEVENT
BEGIN:VEVENT
DTSTART;TZID=America/Chicago:20250406T080000
DTEND;TZID=America/Chicago:20250411T170000
DTSTAMP:20260425T080001
CREATED:20250114T203913Z
LAST-MODIFIED:20250114T203913Z
UID:10000022-1743926400-1744390800@www.spectrumenvsoln.com
SUMMARY:Stationary Source & Analysis for Air Pollutants (SSSAAP) Conference
DESCRIPTION:Our team is excited to attend the 50th Stationary Source & Analysis for Air Pollutants (SSSAAP) Conference in Myrtle Beach\, South Carolina from April 6 – April 11\, 2025.
URL:https://www.spectrumenvsoln.com/event/2025-stationary-source-analysis-for-air-pollutants-sssaap-conference/
CATEGORIES:Conference
ATTACH;FMTTYPE=image/jpeg:https://www.spectrumenvsoln.com/wp-content/uploads/2025/01/SSSAAP-Conference.jpg
END:VEVENT
BEGIN:VEVENT
DTSTART;TZID=America/Chicago:20250408T080000
DTEND;TZID=America/Chicago:20250409T170000
DTSTAMP:20260425T080001
CREATED:20250114T204555Z
LAST-MODIFIED:20250114T204555Z
UID:10000023-1744099200-1744218000@www.spectrumenvsoln.com
SUMMARY:A&WMA HON Compliance Workshop
DESCRIPTION:Our team is looking forward to presenting at A&WMA’s 2025 HON Compliance Workshop April 8-9\, 2025 in New Orleans\, Louisiana! This workshop will address\, in detail\, the recently revised Hazardous Organic NESHAP (HON) provisions as well as other recently issued and/or revised chemical industry standards including NESHAP for Group I Polymers and Resins\, New Source Performance Standards (NSPS) [40 CFR 60] subparts VVb for equipment leaks\, IIIa for air oxidation\, NNNa for distillation\, RRRa for reactors\, and Kc for storage tanks.
URL:https://www.spectrumenvsoln.com/event/2025-awma-hon-compliance-workshop/
CATEGORIES:Workshops
ATTACH;FMTTYPE=image/jpeg:https://www.spectrumenvsoln.com/wp-content/uploads/2025/01/HON-Compliance-Workshop.jpg
END:VEVENT
BEGIN:VEVENT
DTSTART;TZID=America/Chicago:20250413T080000
DTEND;TZID=America/Chicago:20250417T170000
DTSTAMP:20260425T080001
CREATED:20250114T205527Z
LAST-MODIFIED:20250114T205527Z
UID:10000024-1744531200-1744909200@www.spectrumenvsoln.com
SUMMARY:SESHA 2025 Annual Symposium
DESCRIPTION:Our team is excited to be exhibiting at the 47th Annual Symposium in Tempe\, Arizona April 13-17\, 2025. Stop by and see us at booth #33!
URL:https://www.spectrumenvsoln.com/event/2025-sesha-annual-symposium/
CATEGORIES:Conference
ATTACH;FMTTYPE=image/png:https://www.spectrumenvsoln.com/wp-content/uploads/2025/01/SESHA-2.png
END:VEVENT
END:VCALENDAR