BEGIN:VCALENDAR
VERSION:2.0
PRODID:-//Spectrum Environmental Solutions - ECPv6.15.13.1//NONSGML v1.0//EN
CALSCALE:GREGORIAN
METHOD:PUBLISH
X-WR-CALNAME:Spectrum Environmental Solutions
X-ORIGINAL-URL:https://www.spectrumenvsoln.com
X-WR-CALDESC:Events for Spectrum Environmental Solutions
REFRESH-INTERVAL;VALUE=DURATION:PT1H
X-Robots-Tag:noindex
X-PUBLISHED-TTL:PT1H
BEGIN:VTIMEZONE
TZID:America/Chicago
BEGIN:DAYLIGHT
TZOFFSETFROM:-0600
TZOFFSETTO:-0500
TZNAME:CDT
DTSTART:20220313T080000
END:DAYLIGHT
BEGIN:STANDARD
TZOFFSETFROM:-0500
TZOFFSETTO:-0600
TZNAME:CST
DTSTART:20221106T070000
END:STANDARD
BEGIN:DAYLIGHT
TZOFFSETFROM:-0600
TZOFFSETTO:-0500
TZNAME:CDT
DTSTART:20230312T080000
END:DAYLIGHT
BEGIN:STANDARD
TZOFFSETFROM:-0500
TZOFFSETTO:-0600
TZNAME:CST
DTSTART:20231105T070000
END:STANDARD
BEGIN:DAYLIGHT
TZOFFSETFROM:-0600
TZOFFSETTO:-0500
TZNAME:CDT
DTSTART:20240310T080000
END:DAYLIGHT
BEGIN:STANDARD
TZOFFSETFROM:-0500
TZOFFSETTO:-0600
TZNAME:CST
DTSTART:20241103T070000
END:STANDARD
BEGIN:DAYLIGHT
TZOFFSETFROM:-0600
TZOFFSETTO:-0500
TZNAME:CDT
DTSTART:20250309T080000
END:DAYLIGHT
BEGIN:STANDARD
TZOFFSETFROM:-0500
TZOFFSETTO:-0600
TZNAME:CST
DTSTART:20251102T070000
END:STANDARD
END:VTIMEZONE
BEGIN:VTIMEZONE
TZID:America/New_York
BEGIN:DAYLIGHT
TZOFFSETFROM:-0500
TZOFFSETTO:-0400
TZNAME:EDT
DTSTART:20220313T070000
END:DAYLIGHT
BEGIN:STANDARD
TZOFFSETFROM:-0400
TZOFFSETTO:-0500
TZNAME:EST
DTSTART:20221106T060000
END:STANDARD
BEGIN:DAYLIGHT
TZOFFSETFROM:-0500
TZOFFSETTO:-0400
TZNAME:EDT
DTSTART:20230312T070000
END:DAYLIGHT
BEGIN:STANDARD
TZOFFSETFROM:-0400
TZOFFSETTO:-0500
TZNAME:EST
DTSTART:20231105T060000
END:STANDARD
BEGIN:DAYLIGHT
TZOFFSETFROM:-0500
TZOFFSETTO:-0400
TZNAME:EDT
DTSTART:20240310T070000
END:DAYLIGHT
BEGIN:STANDARD
TZOFFSETFROM:-0400
TZOFFSETTO:-0500
TZNAME:EST
DTSTART:20241103T060000
END:STANDARD
END:VTIMEZONE
BEGIN:VEVENT
DTSTART;TZID=America/Chicago:20240709T000000
DTEND;TZID=America/Chicago:20240711T000000
DTSTAMP:20260425T092949
CREATED:20240618T164137Z
LAST-MODIFIED:20240618T164140Z
UID:10000018-1720483200-1720656000@www.spectrumenvsoln.com
SUMMARY:SEMICON West
DESCRIPTION:Spectrum Environmental Solutions will be attending\, exhibiting\, and speaking at the 2024 SEMICON West conference in San Francisco\, CA from July 9-11th. Find us at our booth #6373 in the North Hall and make sure to drop in on Wednesday\, July 10th at 3:20pm when our Vice President\, Steve Hall\, will be speaking about “Meeting Net Zero Challenges in Semiconductor Manufacturing with Real-Time Monitoring of Exhaust Laterals in Sub-Fabs”.
URL:https://www.spectrumenvsoln.com/event/semicon-west-2024/
CATEGORIES:Conference
END:VEVENT
BEGIN:VEVENT
DTSTART;TZID=America/Chicago:20240514T080000
DTEND;TZID=America/Chicago:20240515T170000
DTSTAMP:20260425T092949
CREATED:20230712T132009Z
LAST-MODIFIED:20240506T192159Z
UID:10000001-1715673600-1715792400@www.spectrumenvsoln.com
SUMMARY:TCEQ ENVIRONMENTAL TRADE FAIR & CONFERENCE
DESCRIPTION:Stop by and see us at the TCEQ Environmental Trade Fair & Conference at the Austin Convention Center\, May 14 – May 15\, 2024. We will be showcasing some of our world-class instruments\, including our WaveRunIR™-RAMAN. This is the only commercially available gas analyzer that offers the benefits of both FTIR and Raman in one instrument. Come see us at booth #1145 to take a sneak-peak!
URL:https://www.spectrumenvsoln.com/event/tceq-environmental-trade-fair-conference-2024/
LOCATION:The Austin Convention Center\, 500 East Cesar Chavez Street\, Austin\, TX\, 78701\, United States
CATEGORIES:Fair,Conference
ATTACH;FMTTYPE=image/png:https://www.spectrumenvsoln.com/wp-content/uploads/2023/07/ETFC-1.png
END:VEVENT
BEGIN:VEVENT
DTSTART;TZID=America/Chicago:20240422T080000
DTEND;TZID=America/Chicago:20240425T170000
DTSTAMP:20260425T092949
CREATED:20230808T151157Z
LAST-MODIFIED:20240418T194207Z
UID:10000016-1713772800-1714064400@www.spectrumenvsoln.com
SUMMARY:SESHA Conference
DESCRIPTION:Join us at 9:00am on Thursday when our Vice President of Measurements\, Steve Hall\, will be showcasing how semiconductor manufacturers on the path to NetZero can reduce greenhouse gas emissions by utilizing measured emissions values over calculations.
URL:https://www.spectrumenvsoln.com/event/2024-sesha-conference/
LOCATION:Hilton Resort at the Peak\, 7677 North 16th Street\, Phoenix\, AZ\, 85020\, United States
CATEGORIES:Fair,Conference
ATTACH;FMTTYPE=image/png:https://www.spectrumenvsoln.com/wp-content/uploads/2023/08/SESHA-Conference-1.png
END:VEVENT
BEGIN:VEVENT
DTSTART;TZID=America/Chicago:20240415T080000
DTEND;TZID=America/Chicago:20240419T170000
DTSTAMP:20260425T092949
CREATED:20230808T150029Z
LAST-MODIFIED:20240506T191204Z
UID:10000015-1713168000-1713546000@www.spectrumenvsoln.com
SUMMARY:Analyzer Technology Conference
DESCRIPTION:The Environmental Rules & Monitoring Workshop\nJoin Spectrum Environmental Solutions at the Analyzer Technology Conference on Monday\, April 15\, 2024\, for a full-day workshop designed to deepen your technical and theoretical understanding of environmental compliance technologies and regulations. \n  \nThis specialized workshop offers in-depth explorations of:\n \n– EPA Regulatory Frameworks: Understand the process and impact of EPA’s rulemaking on environmental monitoring.\n– HON Flares and Refinery Compliance: Gain insights into the latest updates on refinery compliance\, including EMACT\, MON\, and HON regulations.\n– Advanced Fenceline Monitoring Techniques: Discover cutting-edge methods for fenceline and advanced fenceline monitoring to enhance environmental oversight.\n– Introduction to EPA’s EtO PS-19: Explore the newly proposed standards for ethylene oxide monitoring and their implications for industry practices.\n– O&G Flare Monitoring & Testing: Unpack the reasons behind the renewed interest in passive FTIR for flare testing and its advantages.\n– Gas Turbine CEMS – Formaldehyde Monitoring: Learn about the latest technologies and methods for monitoring formaldehyde emissions from gas turbines.\n \nThis workshop is a unique opportunity to not only gain invaluable insights but also to engage in comprehensive discussions with other peers and experts in the field. Spaces are limited\, so secure your spot now!\n \nWe will also be exhiting\, so don’t forget to visit our booth and say hi!
URL:https://www.spectrumenvsoln.com/event/2024-analyzer-technology-conference/
LOCATION:Galveston Island Convention Center\, 5600 Seawall Blvd\, Galveston\, 77551\, United States
CATEGORIES:Fair,Conference,Workshops
ATTACH;FMTTYPE=image/png:https://www.spectrumenvsoln.com/wp-content/uploads/2023/08/Analyzer-Technology-Conference-1.png
END:VEVENT
BEGIN:VEVENT
DTSTART;TZID=America/Chicago:20240402T080000
DTEND;TZID=America/Chicago:20240405T170000
DTSTAMP:20260425T092949
CREATED:20230807T215337Z
LAST-MODIFIED:20240401T170733Z
UID:10000014-1712044800-1712336400@www.spectrumenvsoln.com
SUMMARY:4C Marketplace and Conference
DESCRIPTION:Our team is gearing up for the upcoming 4C Marketplace and Environmental Conference\, April 2-5 at the Hilton Austin! \nOur team will be giving presentations on everything from our Annual Flare Workshop\, fecneline monitoring and the HON\, and Ethylene Oxide Monitoring and the new PS-19. \nHere is a full list of the presentations to get ready for: \n🌟Flare Essentials presented by Derek Stuck \n🌟Flare Special Topics presented by Herman Holm \n🌟OOOOb Flare Rule Updates presented by Thomas McKean \n🌟Ja MACT Presented by Lillie Robinson \n🌟Analyzing EPA Consent Decrees Presented by Priyansh Sharma \n🌟EtO CEMS and the New PS-19 Presented by Erik Casbeer\, PhD \n🌟HON Monitoring: It Gets Real After 30 Days Presented by Brian Cochran
URL:https://www.spectrumenvsoln.com/event/2024-4c-marketplace-and-conference/
LOCATION:Hilton Austin Downtown\, 500 E 4th St\, Austin\, 78701\, United States
CATEGORIES:Fair,Conference
ATTACH;FMTTYPE=image/png:https://www.spectrumenvsoln.com/wp-content/uploads/2023/08/Copy-of-AWMA-LA.png
END:VEVENT
BEGIN:VEVENT
DTSTART;TZID=America/Chicago:20240123T080000
DTEND;TZID=America/Chicago:20240125T170000
DTSTAMP:20260425T092949
CREATED:20230807T213909Z
LAST-MODIFIED:20230808T151503Z
UID:10000013-1705996800-1706202000@www.spectrumenvsoln.com
SUMMARY:AWMA The Science of PFAS Conference
DESCRIPTION:
URL:https://www.spectrumenvsoln.com/event/2023-awma-the-science-of-pfas-conference/
LOCATION:Sheraton Raleigh\, 421 South Salisbury Street\, Raleigh\, TX\, 27601\, United States
CATEGORIES:Fair,Conference
ATTACH;FMTTYPE=image/png:https://www.spectrumenvsoln.com/wp-content/uploads/2023/08/Copy-of-Air-Quality-Measurement-Methods-and-Technology-1.png
END:VEVENT
BEGIN:VEVENT
DTSTART;TZID=America/New_York:20231114T080000
DTEND;TZID=America/New_York:20231116T170000
DTSTAMP:20260425T092949
CREATED:20230807T212729Z
LAST-MODIFIED:20230808T151751Z
UID:10000012-1699948800-1700154000@www.spectrumenvsoln.com
SUMMARY:AWMA Air Quality Measurement Methods and Technology Conference
DESCRIPTION:Come by and see Spectrum Environmental Solutions at the American Waste Management Association’s 2023 Air Quality Measurement Methods and Technology Conference! We will be at Booth 29.
URL:https://www.spectrumenvsoln.com/event/2023-awma-air-quality-measurement-methods-technology-conference/
LOCATION:Sheraton Imperial Hotel\, 4700 Emperor Blvd\, Durham\, 27703\, United States
CATEGORIES:Fair,Conference
ATTACH;FMTTYPE=image/png:https://www.spectrumenvsoln.com/wp-content/uploads/2023/08/Air-Quality-Measurement-Methods-and-Technology-1.png
END:VEVENT
BEGIN:VEVENT
DTSTART;TZID=America/Chicago:20231025T080000
DTEND;TZID=America/Chicago:20231026T170000
DTSTAMP:20260425T092949
CREATED:20230719T142203Z
LAST-MODIFIED:20230808T151849Z
UID:10000011-1698220800-1698339600@www.spectrumenvsoln.com
SUMMARY:Louisiana Air & Waste Management Association Annual Conference
DESCRIPTION:Spectrum is excited to attend the Lousiana Air & Waste Management Association 2023 Annual Conference. Don’t forget to stop by Booth 25 and say hello!
URL:https://www.spectrumenvsoln.com/event/la-air-waste-management-association-annual-conference-2023/
LOCATION:L’Auberge Casino & Hotel\, 777 L’Auberge Ave\, Baton Rouge\, TX\, 70820\, United States
CATEGORIES:Conference
ATTACH;FMTTYPE=image/png:https://www.spectrumenvsoln.com/wp-content/uploads/2023/07/AWMA-LA.png
END:VEVENT
BEGIN:VEVENT
DTSTART;TZID=America/Chicago:20231024T100000
DTEND;TZID=America/Chicago:20231024T140000
DTSTAMP:20260425T092949
CREATED:20230913T184712Z
LAST-MODIFIED:20231006T172303Z
UID:10000017-1698141600-1698156000@www.spectrumenvsoln.com
SUMMARY:Workshop: Breaking Down the Proposed HON Amendments
DESCRIPTION:In April 2023 the USEPA proposed a wide-ranging suite of environmental regulatory amendments broadly applicable to hundreds of facilities within the USA chemicals industry. The proposed rules affect 10 NESHAP/MACT subparts and 4 NSPS subparts with costly capital improvements and expensive monitoring programs being required. Spectrum’s experts will present a free and unique workshop to highlight several critical areas within the proposed rulemaking – namely Flare instrumentation and Fenceline monitoring.  \n \nBoth of these topics are complex and will require significant planning and precise execution. With hundreds of flare systems reviewed and decades of ambient air program management\, let the teams at Spectrum guide you through this maze. Make it a point to RSVP and join us on Tuesday\, October 24th for this special Workshop or call us today to organize a site-specific gap assessment for your facility. \n \nLearn More about the workshop and RSVP.
URL:https://www.spectrumenvsoln.com/event/2023-workshop-breaking-down-the-proposed-hon-amendments/
CATEGORIES:Workshops
ATTACH;FMTTYPE=image/png:https://www.spectrumenvsoln.com/wp-content/uploads/2023/09/Air-Quality-Measurement-Methods-and-Technology-1.png
END:VEVENT
END:VCALENDAR